BEGIN:VCALENDAR
VERSION:2.0
PRODID:-//Live it List - ECPv6.15.11//NONSGML v1.0//EN
CALSCALE:GREGORIAN
METHOD:PUBLISH
X-ORIGINAL-URL:https://theliveitlist.com
X-WR-CALDESC:Events for Live it List
REFRESH-INTERVAL;VALUE=DURATION:PT1H
X-Robots-Tag:noindex
X-PUBLISHED-TTL:PT1H
BEGIN:VTIMEZONE
TZID:America/Chicago
BEGIN:DAYLIGHT
TZOFFSETFROM:-0600
TZOFFSETTO:-0500
TZNAME:CDT
DTSTART:20250309T080000
END:DAYLIGHT
BEGIN:STANDARD
TZOFFSETFROM:-0500
TZOFFSETTO:-0600
TZNAME:CST
DTSTART:20251102T070000
END:STANDARD
BEGIN:DAYLIGHT
TZOFFSETFROM:-0600
TZOFFSETTO:-0500
TZNAME:CDT
DTSTART:20260308T080000
END:DAYLIGHT
BEGIN:STANDARD
TZOFFSETFROM:-0500
TZOFFSETTO:-0600
TZNAME:CST
DTSTART:20261101T070000
END:STANDARD
BEGIN:DAYLIGHT
TZOFFSETFROM:-0600
TZOFFSETTO:-0500
TZNAME:CDT
DTSTART:20270314T080000
END:DAYLIGHT
BEGIN:STANDARD
TZOFFSETFROM:-0500
TZOFFSETTO:-0600
TZNAME:CST
DTSTART:20271107T070000
END:STANDARD
END:VTIMEZONE
BEGIN:VEVENT
DTSTART;TZID=America/Chicago:20261022T083000
DTEND;TZID=America/Chicago:20261022T153000
DTSTAMP:20260420T031655
CREATED:20251114T203332Z
LAST-MODIFIED:20260408T135130Z
UID:10000050-1792657800-1792683000@theliveitlist.com
SUMMARY:Women's Empowerment Luncheon
DESCRIPTION:General Admission (Early Bird Pricing until August 1st)\nWe invite you to join us for our annual charity event to help raise money and change lives.\n \n\n\n\n\n\n$69 – PURCHASE HERE  (Regularly $99)\n\n\n\nBuy a Purse Raffle Ticket\n  \nVendor Registration! \nVendor Sign-Up\nSponsorship Packages Available! \nBecome a Sponsor\n\n\n\n\n\n\nWomen’s Empowerment Retreat Agenda\n8:30am – 9:30am:  Registration\, Morning Mingle\, Shopping & Silent Auction\n9:30am – 9:45am: Opening Session: Welcome\, Purse Raffle\, Setting Your Intentions. Wendy Benning Swanson\n9:45am – 10:10am: Welcome & Living Life to the Fullest: Nicole Middendorf\, CDFA\n10:10am-10:15am: Introduction of Vendors & Purse Raffle – Chairs of event: Katie Brandt + Anna Liisa Lampi\n10:15am – 10:30am: Restart Recipient Spotlight: Laura Shaw shares her inspiring story\n10:30am – 11:15am: Break for Shopping\, Networking & Silent Auction\n11:15am: Grab your lunch\, Purse Raffle and Final Bead Purchase\n11:30am – Noon: The Somatic Difference: For Women who Dream Bigger and Feel Deeper (Than Most) – Your Wholeness Awaits. Nina Elizabeth\nNoon:  Purse Raffle\, Heads or Tails Game!  Silent Auction Closes\nNoon – 12:45pm: Health Secrets Panel: Julia Trygstad\, Nicole Middendorf\, Anna Retzke\, Kristen Derus Dore\, Cindy Voigt\, Stacy Lemmer\n12:45pm-1:30pm: Purse Raffle\, Shopping and Networking!\n1:30pm – 2:00pm: Strength in Safety: Empowering Women with Threat Preparedness and De-Escalation Skills Drew Moldenhauer\n2:00pm – 2:30pm: Closing Session\n2:35pm: Final Purse Raffle & Closing Thoughts\n2:35pm – 3:30pm: Final Shopping with Vendors\, Pickup Auction Items\, and Networking \n\nPost Pictures!!! Use the hashtags #theliveitlist and #givingback\n \n\n  \nSponsored By: \n\n\n*Raymond James is not affiliated with the Nicole Middendorf Foundation.\n\n\n\n\n\n\n\n\n  \n 
URL:https://theliveitlist.com/event/womens-empowerment-luncheon/
LOCATION:The Lafayette Club\, 2800 Northview Rd\, Minnetonka Beach\, MN\, 55361\, United States
CATEGORIES:Foundation Events
ATTACH;FMTTYPE=image/jpeg:https://theliveitlist.com/wp-content/uploads/2025/11/IMG_8550-scaled.jpg
END:VEVENT
END:VCALENDAR